BEGIN:VCALENDAR
VERSION:2.0
PRODID:-//Chladek Tanzsystem - ECPv6.15.20//NONSGML v1.0//EN
CALSCALE:GREGORIAN
METHOD:PUBLISH
X-ORIGINAL-URL:https://www.tanz-chladek.com
X-WR-CALDESC:Veranstaltungen für Chladek Tanzsystem
REFRESH-INTERVAL;VALUE=DURATION:PT1H
X-Robots-Tag:noindex
X-PUBLISHED-TTL:PT1H
BEGIN:VTIMEZONE
TZID:Europe/Vienna
BEGIN:DAYLIGHT
TZOFFSETFROM:+0100
TZOFFSETTO:+0200
TZNAME:CEST
DTSTART:20210328T010000
END:DAYLIGHT
BEGIN:STANDARD
TZOFFSETFROM:+0200
TZOFFSETTO:+0100
TZNAME:CET
DTSTART:20211031T010000
END:STANDARD
BEGIN:DAYLIGHT
TZOFFSETFROM:+0100
TZOFFSETTO:+0200
TZNAME:CEST
DTSTART:20220327T010000
END:DAYLIGHT
BEGIN:STANDARD
TZOFFSETFROM:+0200
TZOFFSETTO:+0100
TZNAME:CET
DTSTART:20221030T010000
END:STANDARD
BEGIN:DAYLIGHT
TZOFFSETFROM:+0100
TZOFFSETTO:+0200
TZNAME:CEST
DTSTART:20230326T010000
END:DAYLIGHT
BEGIN:STANDARD
TZOFFSETFROM:+0200
TZOFFSETTO:+0100
TZNAME:CET
DTSTART:20231029T010000
END:STANDARD
END:VTIMEZONE
BEGIN:VEVENT
DTSTART;TZID=Europe/Vienna:20221104T180000
DTEND;TZID=Europe/Vienna:20221104T210000
DTSTAMP:20260420T104023
CREATED:20220114T130206Z
LAST-MODIFIED:20221005T132808Z
UID:14070-1667584800-1667595600@www.tanz-chladek.com
SUMMARY:GER/Berlin: Chladek®Tanzwerkstatt
DESCRIPTION:TANZLUST – KÖRPERWISSEN – IMPROVISATION\n Tanzwerkstatt für alle Levels\n EINMAL IM MONAT jeweils FREITAG \nFür Geimpfte und Genesene \nZeitgenössisches Bewegungs- und Wahrnehmungstraining auf der Basis des Chladek®Systems. \nDieses schafft Klarheit über logische Bewegungszusammenhänge\, bietet eine breite Basis für das Verständnis von Bewegung und schult die Fähigkeit zur Bewegungsanalyse. Das System vermittelt Erkenntnisse über die Wirkung von Schwerpunktveränderung\, Bewegungsinitiierung und unterschiedlichem Krafteinsatz. \nDurch spielerisches lustbetontes Erforschen und achtsame Eigen- und Fremdwahrnehmung entsteht eine Grundlage für die eigene Weiterentwicklung – sowohl künstlerisch als auch pädagogisch. Bewegung als praktisches Erfahren der eigenen Anatomie\, der physikalischen Gesetzmäßigkeiten\, das Erkennen von Bewegungsansätzen und dem Verlauf von Bewegung im Körper stärkt in jeder Altersstufe den Gesundheitsaspekt. \nMit vertiefendem Spüren und Erleben durch das Wissen über die GEHEIMNISVOLLEN Faszien bewegen wir uns durchlässig und zusammenhängend und entdecken neue Bewegungsqualitäten und initiieren subtile positive Veränderungen im Körper. In der Improvisation experimentieren wir mit differenzierter Körperspannung\, Schwerkraft und Raumbeziehungen. Wir schütteln\, wippen\, springen; atmen und erfinden Choreografien\, die vorzeigbar sind. \n„Nicht nachschaffen\, sondern neuschaffen\, nicht zusammensetzen\, sondern entwickeln“ …\n„Dem inneren Erleben äußere Gestalt geben\, dem Eindruck Ausdruck verleihen“ sind zwei Kernaussagen von Rosalia Chladek\, die den Geist ihres Systems widerspiegeln und auch heute sehr aktuell sind. \nLeitung: Margit Szlezak\nMargit Szlezak schöpft aus ihrem Wissen über Chladek-Technik (Lehrbefähigung seit 2004)\, Faszien-Forschung sowie ihrer umfangreichen Erfahrung mit Improvisation. Sie hat über drei Jahrzehnte hinweg als Grundschullehrerin und Tanz- und Theaterpädagogin kreativ gearbeitet\, um innerhalb Ihres Unterrichts für Kinder und Erwachsene die Freude am Bewegungsdrang des Körpers zu erforschen und zu vermitteln. \nKosten: € 30\,-/ pro Tanzwerkstatt \nInfo/Anmeldung: Margit Szlezak\, +49 (0)172 – 597 20 53\, arc.tanz@gmx.de \nBitte beachte unsere AGB´s. \nANMELDUNG
URL:https://www.tanz-chladek.com/event/chladek-tanzwerkstatt-berlin-2-2-2-2-3/
LOCATION:ada-Studio\, Uferstudios\, Studio 7\, Uferstr. 8-23\, Berlin\, Deutschland
CATEGORIES:Workshops,Workshops Deutschland
ATTACH;FMTTYPE=image/jpeg:https://www.tanz-chladek.com/wp-content/uploads/2022/01/Tanzwerkstatt-Berlin-scaled.jpg
ORGANIZER;CN="Margit Szlezak":MAILTO:arc.tanz@gmx.de
END:VEVENT
END:VCALENDAR