BEGIN:VCALENDAR
VERSION:2.0
PRODID:-//Chladek Tanzsystem - ECPv6.15.20//NONSGML v1.0//EN
CALSCALE:GREGORIAN
METHOD:PUBLISH
X-ORIGINAL-URL:https://www.tanz-chladek.com
X-WR-CALDESC:Veranstaltungen für Chladek Tanzsystem
REFRESH-INTERVAL;VALUE=DURATION:PT1H
X-Robots-Tag:noindex
X-PUBLISHED-TTL:PT1H
BEGIN:VTIMEZONE
TZID:Europe/Vienna
BEGIN:DAYLIGHT
TZOFFSETFROM:+0100
TZOFFSETTO:+0200
TZNAME:CEST
DTSTART:20210328T010000
END:DAYLIGHT
BEGIN:STANDARD
TZOFFSETFROM:+0200
TZOFFSETTO:+0100
TZNAME:CET
DTSTART:20211031T010000
END:STANDARD
BEGIN:DAYLIGHT
TZOFFSETFROM:+0100
TZOFFSETTO:+0200
TZNAME:CEST
DTSTART:20220327T010000
END:DAYLIGHT
BEGIN:STANDARD
TZOFFSETFROM:+0200
TZOFFSETTO:+0100
TZNAME:CET
DTSTART:20221030T010000
END:STANDARD
BEGIN:DAYLIGHT
TZOFFSETFROM:+0100
TZOFFSETTO:+0200
TZNAME:CEST
DTSTART:20230326T010000
END:DAYLIGHT
BEGIN:STANDARD
TZOFFSETFROM:+0200
TZOFFSETTO:+0100
TZNAME:CET
DTSTART:20231029T010000
END:STANDARD
END:VTIMEZONE
BEGIN:VEVENT
DTSTART;VALUE=DATE:20221015
DTEND;VALUE=DATE:20221017
DTSTAMP:20260420T042309
CREATED:20220419T142949Z
LAST-MODIFIED:20220823T080938Z
UID:14190-1665792000-1665964799@www.tanz-chladek.com
SUMMARY:GER/Villingen-Schwenningen: moving and mapping
DESCRIPTION:ZEITEN_ORTE_TANZ-GESCHICHTE(N)_MODERNER TANZ\nMOVING & MAPPING 2022: ROSALIA CHLADEK\nAktuelle Lesarten des Chladek®-Tanzsystems\nanlässlich des 50jährigen Jubiläums der Arbeitsgemeinschaft Rosalia Chladek Deutschland e.V./ IGRC \nProgramm:\nSamstag\, 15. Oktober 2022\n11:00 – 11:30 Uhr Begrüßung und Einführung │ Dr. Christiana Rosenberg\n11:30 – 13:30 Uhr Workshop: Chladek-Tanztechnik │ Eva Lajko\n14:15 – 17:00 Uhr Choreografie-Werkstatt │ Cornelia Widmer\n17:30 – 18:15 Uhr Lecture-Performance │ Eva Lajko & Doris Buche-Reisinger \nzu Prinzipien des Chladek-Systems und dem Wandel des pädagogischen Konzepts\n18:30 – 19:15 Uhr Panel mit Zeitzeugen zum Lebenswerk von Rosalia Chladek als Tänzerin\, Choreografin und Pädagogin\nModeration: Dr. Christiana Rosenberg\n19:30 – 20:15 Uhr Rosalia Chladek – Tänze und Inspirationen – Rekonstruktionen\, Reenactements und Neu-Kreationen:\nDrehtanz (Ch. R.C. / Tanz: Doris Buche-Reisinger)\nCarte Blanche (Ch. + Tanz: Eva Lajko & Doris Buche-Reisinger)\nBlending (Ch. + Tanz: Eva-Maria Kraft)\nCalm Poem (Ch. + Tanz: Cornelia Widmer und Ensemble) \nSonntag\, 16. Oktober 2022\n09:30 – 10:30 Uhr MODERNER TANZ – CREATED IN DRESDEN │ Dr. Claudia Fleischle-Braun\nInstallation mit Lecture und Slawischer Tanz (Ch. R.C. / Tanz: Doris Buche-Reisinger)\n10:45 – 12:15 Uhr Workshop: Chladek-Tanztechnik │ Eva Lajko\n12:45 – 14:15 Uhr Choreografie-Werkstatt │ Cornelia Widmer\n14:30 – 15:00 Uhr Abschlussgespräch: Rückblick\, Vorhaben und Visionen \nTeilnehmergebühren:\n€ 50\,00 / € 30\,00 für Auszubildende und Studierende \nAnmeldung und weitere Informationen:\nForumTanz\, Cornelia Widmer\, Hegelstr. 101\, 78056 Villingen-Schwenningen\nmail@cwidmer.de\nwww.forumtanz.info\nund\nDr. Claudia Fleischle-Braun\, Kastanienweg 8\, 70597 Stuttgart\nc-fleischle@t-online.de \nDeadline: 8. Oktober 2022 \n  \n  \n  \n  \n  \n 
URL:https://www.tanz-chladek.com/event/zeiten_orte_tanz-geschichten_moderner-tanz/
LOCATION:ForumTanz\, Schluchseestrasse 55\, Villingen-Schwenningen\, Deutschland
CATEGORIES:Events,Kurse Deutschland,Workshops Deutschland
ATTACH;FMTTYPE=image/jpeg:https://www.tanz-chladek.com/wp-content/uploads/2022/02/thumbnail.jpg
ORGANIZER;CN="ARC Deutschland":MAILTO:eva.lajko@tanz-chladek.com
END:VEVENT
END:VCALENDAR