BEGIN:VCALENDAR
VERSION:2.0
PRODID:-//Chladek Tanzsystem - ECPv6.15.20//NONSGML v1.0//EN
CALSCALE:GREGORIAN
METHOD:PUBLISH
X-ORIGINAL-URL:https://www.tanz-chladek.com
X-WR-CALDESC:Veranstaltungen für Chladek Tanzsystem
REFRESH-INTERVAL;VALUE=DURATION:PT1H
X-Robots-Tag:noindex
X-PUBLISHED-TTL:PT1H
BEGIN:VTIMEZONE
TZID:Europe/Vienna
BEGIN:DAYLIGHT
TZOFFSETFROM:+0100
TZOFFSETTO:+0200
TZNAME:CEST
DTSTART:20210328T010000
END:DAYLIGHT
BEGIN:STANDARD
TZOFFSETFROM:+0200
TZOFFSETTO:+0100
TZNAME:CET
DTSTART:20211031T010000
END:STANDARD
BEGIN:DAYLIGHT
TZOFFSETFROM:+0100
TZOFFSETTO:+0200
TZNAME:CEST
DTSTART:20220327T010000
END:DAYLIGHT
BEGIN:STANDARD
TZOFFSETFROM:+0200
TZOFFSETTO:+0100
TZNAME:CET
DTSTART:20221030T010000
END:STANDARD
BEGIN:DAYLIGHT
TZOFFSETFROM:+0100
TZOFFSETTO:+0200
TZNAME:CEST
DTSTART:20230326T010000
END:DAYLIGHT
BEGIN:STANDARD
TZOFFSETFROM:+0200
TZOFFSETTO:+0100
TZNAME:CET
DTSTART:20231029T010000
END:STANDARD
END:VTIMEZONE
BEGIN:VEVENT
DTSTART;TZID=Europe/Vienna:20220319T093000
DTEND;TZID=Europe/Vienna:20220319T163000
DTSTAMP:20260419T173340
CREATED:20191107T102801Z
LAST-MODIFIED:20220302T115147Z
UID:13714-1647682200-1647707400@www.tanz-chladek.com
SUMMARY:CH/ Winterthur: Die Diagonale in Körper und Raum
DESCRIPTION:Erlebe die Diagonale in Tanztechnik und Improvisation\, umgesetzt im Körper\, in diagonalen Bewegungsansätzen und auf unterschiedlichen Raumwegen. \nZiel:\nDurch Improvisation finden die Teilnehmer Ihren eigenen Tanz.\nSie lernen viele neue diagonale Verbindungen und Ansätze kennen. Sie werden überrascht sein\, wie viele Möglichkeiten der Körper zulässt.\nMit Hilfe des Chladek®Systems entdecken Sie neue Zusammenhänge im Körper – für sich selber sowie für Ihren Unterricht. \nInhalt:\n• Technik\, Körperschulung und Improvisation ermöglichen ein differenziertes Körperbewusstsein.\n• Die komplexeren Bewegungsansätze geben der Kreativität frische Anregung und lassen den Körper sowie den Tanz als Ausdrucksmittel neu erfahren.\n• Die zusätzlichen\, spielerischen Ideen für Raum und Partner bereichern deine Bewegungsqualität\, und falls du Stunden gibst\, sicher auch deinen Unterricht.\n• ‚Komm tanz mit dir‘ \nAnforderung: tänzerische Vorkenntnisse sind von Vorteil \nLeitung: Preisig Annalies & Roth Heidi J.M. \nOrt: Tanztheater Heidi J.M. Roth\, Zeughausstrasse 52\, 8400 Winterthur \nKosten:\nCHF 180.- Mitglieder ARC Schweiz und BGB Schweiz\nCHF 210.- Nichtmitglieder.\ninkl. Kursbestätigung \nInformation/Anmeldung:\nAnnalies Preisig. +41 79 698 16 35\nannalies.preisig@tanz-chladek.com
URL:https://www.tanz-chladek.com/event/die-diagonale-in-koerper-und-raum/
LOCATION:Tanz Ort am Gleis\, Untere Vogelsangstrasse 2\, 8400 Winterthur\, Schweiz
CATEGORIES:Workshops,Workshops Schweiz
ATTACH;FMTTYPE=image/jpeg:https://www.tanz-chladek.com/wp-content/uploads/2021/01/Ausbildung-Schweiz-Impressionen-Titel-Kopie.jpg
ORGANIZER;CN="ARC Schweiz":MAILTO:tanzwerkstatt@tanz-chladek.com
END:VEVENT
BEGIN:VEVENT
DTSTART;TZID=Europe/Vienna:20220319T160000
DTEND;TZID=Europe/Vienna:20220319T180000
DTSTAMP:20260419T173340
CREATED:20220128T123933Z
LAST-MODIFIED:20220128T124016Z
UID:14090-1647705600-1647712800@www.tanz-chladek.com
SUMMARY:ONLINE: Infoveranstaltung Ausbildung im Chladek®System
DESCRIPTION:Bei dieser Infoveranstaltung erhältst Du online praktische und theoretische Einblicke in das Tanzsystem von Rosalia Chladek® sowie organisatorische Informationen zur Aus- und Weiterbildung in Bewegung\, Tanz und Tanzpädagogik. \nAblauf:\n16.00 – 16.45 Uhr     praktische Einblicke in das Chladek®System\n17.00 – 17.30 Uhr     Video  Demonstration Chladek®Tanztechnik\n17.30 – 18.00 Uhr     Fragen zur Aus- und Weiterbildung \nLeitung: Eva Lajko\, Pädagogische Leitung der Ausbildung \nDigitale Plattform:    Zoom \nEine Teilnahme ist nur mit Voranmeldung möglich!\nAnmeldung unter: eva.lajko@tanz-chladek.com \nWeitere Termine:\nMo.\, 28. März 2022\, 18.00 – 20.00 Uhr\nMi.\, 20. April 2022\, 18.00 – 20.00 Uhr\nSa.\, 30. April 2022\, 16.00 – 18.00 Uhr \nNach Deiner Anmeldung erhältst Du den Einladungslink per Mail zugeschickt! \n Die Veranstaltung ist frei! \nVoranmeldung
URL:https://www.tanz-chladek.com/event/online-infoveranstaltung-zur-aus-und-weiterbildung-fuer-bewegung-tanz-und-tanzpaedagogik-im-chladeksystem-2-2/
LOCATION:Online\, Österreich
CATEGORIES:Informationsveranstaltungen
ATTACH;FMTTYPE=image/jpeg:https://www.tanz-chladek.com/wp-content/uploads/2021/01/VS_Infoveranstaltung-Online-Jan-2021-Kopie.jpg
ORGANIZER;CN="IGRC":MAILTO:organisation-ausbildung@tanz-chladek.com
END:VEVENT
END:VCALENDAR